BEGIN:VCALENDAR
VERSION:2.0
PRODID:-//Plone.org//NONSGML plone.app.event//EN
X-WR-TIMEZONE:Europe/Berlin
BEGIN:VEVENT
SUMMARY:Music Rehearsals
DTSTART;TZID=Europe/Zurich;VALUE=DATE-TIME:20260809T100000
DTSTAMP;VALUE=DATE-TIME:20260421T104735Z
UID:8aa48dfe9f694d199714d9d2dc30220d@localhost:16090
CATEGORIES:Musik
CREATED;VALUE=DATE-TIME:20260420T210405Z
DESCRIPTION: 
LAST-MODIFIED;VALUE=DATE-TIME:20260420T210405Z
URL:https://www.englishmission.ch/verowa-forum-events/music-rehearsals-15
END:VEVENT
BEGIN:VTIMEZONE
TZID:Europe/Zurich
X-LIC-LOCATION:Europe/Zurich
BEGIN:DAYLIGHT
DTSTART;VALUE=DATE-TIME:20260329T030000
TZNAME:CEST
TZOFFSETFROM:+0100
TZOFFSETTO:+0200
END:DAYLIGHT
END:VTIMEZONE
END:VCALENDAR
